BEGIN:VCALENDAR
VERSION:2.0
PRODID:-//Eastern Market - ECPv6.15.20//NONSGML v1.0//EN
CALSCALE:GREGORIAN
METHOD:PUBLISH
X-ORIGINAL-URL:https://easternmarket.org
X-WR-CALDESC:Events for Eastern Market
REFRESH-INTERVAL;VALUE=DURATION:PT1H
X-Robots-Tag:noindex
X-PUBLISHED-TTL:PT1H
BEGIN:VTIMEZONE
TZID:America/Detroit
BEGIN:DAYLIGHT
TZOFFSETFROM:-0500
TZOFFSETTO:-0400
TZNAME:EDT
DTSTART:20240310T070000
END:DAYLIGHT
BEGIN:STANDARD
TZOFFSETFROM:-0400
TZOFFSETTO:-0500
TZNAME:EST
DTSTART:20241103T060000
END:STANDARD
BEGIN:DAYLIGHT
TZOFFSETFROM:-0500
TZOFFSETTO:-0400
TZNAME:EDT
DTSTART:20250309T070000
END:DAYLIGHT
BEGIN:STANDARD
TZOFFSETFROM:-0400
TZOFFSETTO:-0500
TZNAME:EST
DTSTART:20251102T060000
END:STANDARD
BEGIN:DAYLIGHT
TZOFFSETFROM:-0500
TZOFFSETTO:-0400
TZNAME:EDT
DTSTART:20260308T070000
END:DAYLIGHT
BEGIN:STANDARD
TZOFFSETFROM:-0400
TZOFFSETTO:-0500
TZNAME:EST
DTSTART:20261101T060000
END:STANDARD
END:VTIMEZONE
BEGIN:VEVENT
DTSTART;TZID=America/Detroit:20250914T100000
DTEND;TZID=America/Detroit:20250914T160000
DTSTAMP:20260423T071134
CREATED:20250423T220205Z
LAST-MODIFIED:20250423T220433Z
UID:10000308-1757844000-1757865600@easternmarket.org
SUMMARY:Sunday Market 2025
DESCRIPTION:Join us at our annual summer Sunday Market! \nSunday Market runs from 10 am to 4 pm\, June through September and features local craftsmen\, artisans\, clothing\, and apparel with events in Shed 5.
URL:https://easternmarket.org/events/sunday-market-2025/2025-09-14/
LOCATION:Eastern Market\, 2934 Russell\, Detroit\, 48207\, United States
ATTACH;FMTTYPE=image/jpeg:https://easternmarket.org/wp-content/uploads/2025/04/IMG_2540-scaled.jpg
ORGANIZER;CN="Eastern Market Partnership":MAILTO:admin@easternmarket.org
END:VEVENT
BEGIN:VEVENT
DTSTART;TZID=America/Detroit:20250914T080000
DTEND;TZID=America/Detroit:20250914T170000
DTSTAMP:20260423T071134
CREATED:20250828T163722Z
LAST-MODIFIED:20250828T171525Z
UID:10000338-1757836800-1757869200@easternmarket.org
SUMMARY:Eastern Market Tailgating
DESCRIPTION:Join us in cheering on the Detroit Lions vs the Chicago Bears\, on September 14\, 2025. Our ticketed lots will be open from 8 am to 5 pm\, and you can purchase tickets by clicking the event link. Please read our updated tailgating rules before purchasing.
URL:https://easternmarket.org/events/eastern-market-tailgating/
LOCATION:Eastern Market\, 2934 Russell\, Detroit\, 48207\, United States
ATTACH;FMTTYPE=image/png:https://easternmarket.org/wp-content/uploads/2025/08/6a257cce-40e4-4483-9275-e3e870533c61.png
END:VEVENT
BEGIN:VEVENT
DTSTART;TZID=America/Detroit:20250913T060000
DTEND;TZID=America/Detroit:20250913T160000
DTSTAMP:20260423T071134
CREATED:20250909T173438Z
LAST-MODIFIED:20250909T173438Z
UID:10000347-1757743200-1757779200@easternmarket.org
SUMMARY:Saturday Market
DESCRIPTION:Saturday Market is a staple market day at Eastern Market. You’ll find a vast assortment of local produce\, flower and plant vendors\, as well as packaged food items\, and handcrafted items made by local entrepreneurs. Saturdays Market it open year round\, with up to 45\,000 people from all over southeastern Michigan and beyond stop by for a day at the market. \nSaturday Market\, open year round\, 6 AM – 4 PM\, all sheds open
URL:https://easternmarket.org/events/saturday-market/2025-09-13/
LOCATION:Eastern Market\, 2934 Russell\, Detroit\, 48207\, United States
ATTACH;FMTTYPE=image/jpeg:https://easternmarket.org/wp-content/uploads/2025/09/IMG_0152-scaled.jpg
ORGANIZER;CN="Eastern Market Partnership":MAILTO:admin@easternmarket.org
END:VEVENT
BEGIN:VEVENT
DTSTART;VALUE=DATE:20250912
DTEND;VALUE=DATE:20250915
DTSTAMP:20260423T071134
CREATED:20250902T144209Z
LAST-MODIFIED:20250902T145603Z
UID:10000346-1757635200-1757894399@easternmarket.org
SUMMARY:St. Joseph Oktoberfest 2025
DESCRIPTION:Location: DeSales Park @ Gratiot Ave/St Aubin/Dequindre Cut \nWhen:  \n\nFriday\, September 12: 4-8 PM\nSaturday\, September 13: 10 AM – 8 PM\nSunday\, September 14: 10 AM – 6 PM\n\n\nFeaturing: \n\nGerman-inspired food\nBeer\nMusic\n50/50 Raffle\nSteinholding Competitions\nFamily Carnival Rides\nRaffle Drawing\nChurch Tours\nOn-site Parking
URL:https://easternmarket.org/events/st-joseph-oktoberfest-2025-2025-09-12/
ATTACH;FMTTYPE=image/jpeg:https://easternmarket.org/wp-content/uploads/2025/09/StJosephOktoberfest.jpg
END:VEVENT
BEGIN:VEVENT
DTSTART;TZID=America/Detroit:20250909T090000
DTEND;TZID=America/Detroit:20250909T150000
DTSTAMP:20260423T071134
CREATED:20250423T220740Z
LAST-MODIFIED:20250930T151034Z
UID:10000325-1757408400-1757430000@easternmarket.org
SUMMARY:Tuesday Market 2025
DESCRIPTION:Join us for our annual summer Tuesday Market! \nTuesday Market runs from 9 am to 3 pm featuring our regular Saturday Market vendors with local products and produce\, additional health and wellness resources\, and free yoga and Zumba in Shed 3. \nFood trucks will also be onsite to grab lunch\, with many of our district businesses open to eat\, shop\, and explore.
URL:https://easternmarket.org/events/tuesday-market-2025/2025-09-09/
LOCATION:Eastern Market\, Sheds 2 & 3\, 2934 Russell\, Detroit\, MI\, 48207\, United States
ATTACH;FMTTYPE=image/jpeg:https://easternmarket.org/wp-content/uploads/2025/04/IMG_2506-2-scaled.jpg
ORGANIZER;CN="Eastern Market Partnership":MAILTO:admin@easternmarket.org
END:VEVENT
BEGIN:VEVENT
DTSTART;TZID=America/Detroit:20250907T100000
DTEND;TZID=America/Detroit:20250907T160000
DTSTAMP:20260423T071134
CREATED:20250423T220205Z
LAST-MODIFIED:20250423T220433Z
UID:10000307-1757239200-1757260800@easternmarket.org
SUMMARY:Sunday Market 2025
DESCRIPTION:Join us at our annual summer Sunday Market! \nSunday Market runs from 10 am to 4 pm\, June through September and features local craftsmen\, artisans\, clothing\, and apparel with events in Shed 5.
URL:https://easternmarket.org/events/sunday-market-2025/2025-09-07/
LOCATION:Eastern Market\, 2934 Russell\, Detroit\, 48207\, United States
ATTACH;FMTTYPE=image/jpeg:https://easternmarket.org/wp-content/uploads/2025/04/IMG_2540-scaled.jpg
ORGANIZER;CN="Eastern Market Partnership":MAILTO:admin@easternmarket.org
END:VEVENT
BEGIN:VEVENT
DTSTART;TZID=America/Detroit:20250902T090000
DTEND;TZID=America/Detroit:20250902T150000
DTSTAMP:20260423T071134
CREATED:20250423T220740Z
LAST-MODIFIED:20250930T151034Z
UID:10000324-1756803600-1756825200@easternmarket.org
SUMMARY:Tuesday Market 2025
DESCRIPTION:Join us for our annual summer Tuesday Market! \nTuesday Market runs from 9 am to 3 pm featuring our regular Saturday Market vendors with local products and produce\, additional health and wellness resources\, and free yoga and Zumba in Shed 3. \nFood trucks will also be onsite to grab lunch\, with many of our district businesses open to eat\, shop\, and explore.
URL:https://easternmarket.org/events/tuesday-market-2025/2025-09-02/
LOCATION:Eastern Market\, Sheds 2 & 3\, 2934 Russell\, Detroit\, MI\, 48207\, United States
ATTACH;FMTTYPE=image/jpeg:https://easternmarket.org/wp-content/uploads/2025/04/IMG_2506-2-scaled.jpg
ORGANIZER;CN="Eastern Market Partnership":MAILTO:admin@easternmarket.org
END:VEVENT
BEGIN:VEVENT
DTSTART;TZID=America/Detroit:20250831T110000
DTEND;TZID=America/Detroit:20250831T170000
DTSTAMP:20260423T071134
CREATED:20250821T153536Z
LAST-MODIFIED:20250821T172941Z
UID:10000332-1756638000-1756659600@easternmarket.org
SUMMARY:Detroit Sandwich Party
DESCRIPTION:Come eat the best Detroit sandwiches with all of your best friends! \nDetroit Sandwich Party is a one-day festival for sandwich enthusiasts by sandwich enthusiasts in partnership with the North Corktown Neighborhood Association and Eastern Market Corporation. Growing from Carlos Parisi and friends’ Detroit Sandwich Week every December\, the summer Detroit Sandwich Party pays homage to the great sandwich makers of our beautiful city. \nAs the title suggests\, we gather as a community to celebrate the delicious creation that is the sandwich\, both sweet and savory. Sandwich Party-ers will have the opportunity to purchase as many small-format sandwiches as they’d like\, accompanied by beer\, wine\, and non-alcoholic beverages for sale. Anyone who enjoys eating sandwiches is welcome to join us in our revelry that will feature some of the most prominent and important sandwich makers all in one place for one day\, with no cost to attend. \nEastern Market Shed 5\n\n\n\n\n\n\n\n\n\n\n\n2810 Russell St\, Detroit\, MI 48207. Shed 5 is handicap accessible and has public restrooms. Other public restrooms will be open around Eastern Market as Detroit Sandwich Party takes place during Eastern Market’s Sunday Market. We encourage Party-goers to explore the market and vendors (alcoholic drinks must stay in Shed 5)! Free street parking is available throughout the district
URL:https://easternmarket.org/events/detroit-sandwich-party-2025/
LOCATION:Eastern Market\, Shed 5\, 2810 Russell St.\, Detroit\, MI\, 48207
ATTACH;FMTTYPE=image/png:https://easternmarket.org/wp-content/uploads/2025/08/6151591407826650306.png
END:VEVENT
BEGIN:VEVENT
DTSTART;TZID=America/Detroit:20250831T100000
DTEND;TZID=America/Detroit:20250831T160000
DTSTAMP:20260423T071134
CREATED:20250423T220205Z
LAST-MODIFIED:20250423T220433Z
UID:10000306-1756634400-1756656000@easternmarket.org
SUMMARY:Sunday Market 2025
DESCRIPTION:Join us at our annual summer Sunday Market! \nSunday Market runs from 10 am to 4 pm\, June through September and features local craftsmen\, artisans\, clothing\, and apparel with events in Shed 5.
URL:https://easternmarket.org/events/sunday-market-2025/2025-08-31/
LOCATION:Eastern Market\, 2934 Russell\, Detroit\, 48207\, United States
ATTACH;FMTTYPE=image/jpeg:https://easternmarket.org/wp-content/uploads/2025/04/IMG_2540-scaled.jpg
ORGANIZER;CN="Eastern Market Partnership":MAILTO:admin@easternmarket.org
END:VEVENT
BEGIN:VEVENT
DTSTART;TZID=America/Detroit:20250826T090000
DTEND;TZID=America/Detroit:20250826T150000
DTSTAMP:20260423T071134
CREATED:20250423T220740Z
LAST-MODIFIED:20250930T151034Z
UID:10000323-1756198800-1756220400@easternmarket.org
SUMMARY:Tuesday Market 2025
DESCRIPTION:Join us for our annual summer Tuesday Market! \nTuesday Market runs from 9 am to 3 pm featuring our regular Saturday Market vendors with local products and produce\, additional health and wellness resources\, and free yoga and Zumba in Shed 3. \nFood trucks will also be onsite to grab lunch\, with many of our district businesses open to eat\, shop\, and explore.
URL:https://easternmarket.org/events/tuesday-market-2025/2025-08-26/
LOCATION:Eastern Market\, Sheds 2 & 3\, 2934 Russell\, Detroit\, MI\, 48207\, United States
ATTACH;FMTTYPE=image/jpeg:https://easternmarket.org/wp-content/uploads/2025/04/IMG_2506-2-scaled.jpg
ORGANIZER;CN="Eastern Market Partnership":MAILTO:admin@easternmarket.org
END:VEVENT
BEGIN:VEVENT
DTSTART;TZID=America/Detroit:20250824T110000
DTEND;TZID=America/Detroit:20250824T160000
DTSTAMP:20260423T071134
CREATED:20250821T172458Z
LAST-MODIFIED:20250821T172805Z
UID:10000337-1756033200-1756051200@easternmarket.org
SUMMARY:'Til Summer Ends Youth Art Fair
DESCRIPTION:Join us for a day of live performances\, vendors\, artists and more at the Eastern Market Shed 5 on August 24th.
URL:https://easternmarket.org/events/til-summer-ends-youth-art-fair/
LOCATION:Eastern Market\, Shed 5\, 2810 Russell St.\, Detroit\, MI\, 48207
ATTACH;FMTTYPE=image/jpeg:https://easternmarket.org/wp-content/uploads/2025/08/Image-8-21-25-at-1.17-PM.jpeg
END:VEVENT
BEGIN:VEVENT
DTSTART;TZID=America/Detroit:20250824T100000
DTEND;TZID=America/Detroit:20250824T160000
DTSTAMP:20260423T071134
CREATED:20250423T220205Z
LAST-MODIFIED:20250423T220433Z
UID:10000305-1756029600-1756051200@easternmarket.org
SUMMARY:Sunday Market 2025
DESCRIPTION:Join us at our annual summer Sunday Market! \nSunday Market runs from 10 am to 4 pm\, June through September and features local craftsmen\, artisans\, clothing\, and apparel with events in Shed 5.
URL:https://easternmarket.org/events/sunday-market-2025/2025-08-24/
LOCATION:Eastern Market\, 2934 Russell\, Detroit\, 48207\, United States
ATTACH;FMTTYPE=image/jpeg:https://easternmarket.org/wp-content/uploads/2025/04/IMG_2540-scaled.jpg
ORGANIZER;CN="Eastern Market Partnership":MAILTO:admin@easternmarket.org
END:VEVENT
BEGIN:VEVENT
DTSTART;TZID=America/Detroit:20250819T090000
DTEND;TZID=America/Detroit:20250819T150000
DTSTAMP:20260423T071134
CREATED:20250423T220740Z
LAST-MODIFIED:20250930T151034Z
UID:10000322-1755594000-1755615600@easternmarket.org
SUMMARY:Tuesday Market 2025
DESCRIPTION:Join us for our annual summer Tuesday Market! \nTuesday Market runs from 9 am to 3 pm featuring our regular Saturday Market vendors with local products and produce\, additional health and wellness resources\, and free yoga and Zumba in Shed 3. \nFood trucks will also be onsite to grab lunch\, with many of our district businesses open to eat\, shop\, and explore.
URL:https://easternmarket.org/events/tuesday-market-2025/2025-08-19/
LOCATION:Eastern Market\, Sheds 2 & 3\, 2934 Russell\, Detroit\, MI\, 48207\, United States
ATTACH;FMTTYPE=image/jpeg:https://easternmarket.org/wp-content/uploads/2025/04/IMG_2506-2-scaled.jpg
ORGANIZER;CN="Eastern Market Partnership":MAILTO:admin@easternmarket.org
END:VEVENT
BEGIN:VEVENT
DTSTART;TZID=America/Detroit:20250817T100000
DTEND;TZID=America/Detroit:20250817T160000
DTSTAMP:20260423T071134
CREATED:20250423T220205Z
LAST-MODIFIED:20250423T220433Z
UID:10000304-1755424800-1755446400@easternmarket.org
SUMMARY:Sunday Market 2025
DESCRIPTION:Join us at our annual summer Sunday Market! \nSunday Market runs from 10 am to 4 pm\, June through September and features local craftsmen\, artisans\, clothing\, and apparel with events in Shed 5.
URL:https://easternmarket.org/events/sunday-market-2025/2025-08-17/
LOCATION:Eastern Market\, 2934 Russell\, Detroit\, 48207\, United States
ATTACH;FMTTYPE=image/jpeg:https://easternmarket.org/wp-content/uploads/2025/04/IMG_2540-scaled.jpg
ORGANIZER;CN="Eastern Market Partnership":MAILTO:admin@easternmarket.org
END:VEVENT
BEGIN:VEVENT
DTSTART;TZID=America/Detroit:20250812T090000
DTEND;TZID=America/Detroit:20250812T150000
DTSTAMP:20260423T071134
CREATED:20250423T220740Z
LAST-MODIFIED:20250930T151034Z
UID:10000321-1754989200-1755010800@easternmarket.org
SUMMARY:Tuesday Market 2025
DESCRIPTION:Join us for our annual summer Tuesday Market! \nTuesday Market runs from 9 am to 3 pm featuring our regular Saturday Market vendors with local products and produce\, additional health and wellness resources\, and free yoga and Zumba in Shed 3. \nFood trucks will also be onsite to grab lunch\, with many of our district businesses open to eat\, shop\, and explore.
URL:https://easternmarket.org/events/tuesday-market-2025/2025-08-12/
LOCATION:Eastern Market\, Sheds 2 & 3\, 2934 Russell\, Detroit\, MI\, 48207\, United States
ATTACH;FMTTYPE=image/jpeg:https://easternmarket.org/wp-content/uploads/2025/04/IMG_2506-2-scaled.jpg
ORGANIZER;CN="Eastern Market Partnership":MAILTO:admin@easternmarket.org
END:VEVENT
BEGIN:VEVENT
DTSTART;TZID=America/Detroit:20250810T100000
DTEND;TZID=America/Detroit:20250810T160000
DTSTAMP:20260423T071134
CREATED:20250423T220205Z
LAST-MODIFIED:20250423T220433Z
UID:10000303-1754820000-1754841600@easternmarket.org
SUMMARY:Sunday Market 2025
DESCRIPTION:Join us at our annual summer Sunday Market! \nSunday Market runs from 10 am to 4 pm\, June through September and features local craftsmen\, artisans\, clothing\, and apparel with events in Shed 5.
URL:https://easternmarket.org/events/sunday-market-2025/2025-08-10/
LOCATION:Eastern Market\, 2934 Russell\, Detroit\, 48207\, United States
ATTACH;FMTTYPE=image/jpeg:https://easternmarket.org/wp-content/uploads/2025/04/IMG_2540-scaled.jpg
ORGANIZER;CN="Eastern Market Partnership":MAILTO:admin@easternmarket.org
END:VEVENT
BEGIN:VEVENT
DTSTART;TZID=America/Detroit:20250805T090000
DTEND;TZID=America/Detroit:20250805T150000
DTSTAMP:20260423T071134
CREATED:20250423T220740Z
LAST-MODIFIED:20250930T151034Z
UID:10000320-1754384400-1754406000@easternmarket.org
SUMMARY:Tuesday Market 2025
DESCRIPTION:Join us for our annual summer Tuesday Market! \nTuesday Market runs from 9 am to 3 pm featuring our regular Saturday Market vendors with local products and produce\, additional health and wellness resources\, and free yoga and Zumba in Shed 3. \nFood trucks will also be onsite to grab lunch\, with many of our district businesses open to eat\, shop\, and explore.
URL:https://easternmarket.org/events/tuesday-market-2025/2025-08-05/
LOCATION:Eastern Market\, Sheds 2 & 3\, 2934 Russell\, Detroit\, MI\, 48207\, United States
ATTACH;FMTTYPE=image/jpeg:https://easternmarket.org/wp-content/uploads/2025/04/IMG_2506-2-scaled.jpg
ORGANIZER;CN="Eastern Market Partnership":MAILTO:admin@easternmarket.org
END:VEVENT
BEGIN:VEVENT
DTSTART;TZID=America/Detroit:20250803T100000
DTEND;TZID=America/Detroit:20250803T160000
DTSTAMP:20260423T071134
CREATED:20250423T220205Z
LAST-MODIFIED:20250423T220433Z
UID:10000302-1754215200-1754236800@easternmarket.org
SUMMARY:Sunday Market 2025
DESCRIPTION:Join us at our annual summer Sunday Market! \nSunday Market runs from 10 am to 4 pm\, June through September and features local craftsmen\, artisans\, clothing\, and apparel with events in Shed 5.
URL:https://easternmarket.org/events/sunday-market-2025/2025-08-03/
LOCATION:Eastern Market\, 2934 Russell\, Detroit\, 48207\, United States
ATTACH;FMTTYPE=image/jpeg:https://easternmarket.org/wp-content/uploads/2025/04/IMG_2540-scaled.jpg
ORGANIZER;CN="Eastern Market Partnership":MAILTO:admin@easternmarket.org
END:VEVENT
BEGIN:VEVENT
DTSTART;TZID=America/Detroit:20250729T090000
DTEND;TZID=America/Detroit:20250729T150000
DTSTAMP:20260423T071134
CREATED:20250423T220740Z
LAST-MODIFIED:20250930T151034Z
UID:10000319-1753779600-1753801200@easternmarket.org
SUMMARY:Tuesday Market 2025
DESCRIPTION:Join us for our annual summer Tuesday Market! \nTuesday Market runs from 9 am to 3 pm featuring our regular Saturday Market vendors with local products and produce\, additional health and wellness resources\, and free yoga and Zumba in Shed 3. \nFood trucks will also be onsite to grab lunch\, with many of our district businesses open to eat\, shop\, and explore.
URL:https://easternmarket.org/events/tuesday-market-2025/2025-07-29/
LOCATION:Eastern Market\, Sheds 2 & 3\, 2934 Russell\, Detroit\, MI\, 48207\, United States
ATTACH;FMTTYPE=image/jpeg:https://easternmarket.org/wp-content/uploads/2025/04/IMG_2506-2-scaled.jpg
ORGANIZER;CN="Eastern Market Partnership":MAILTO:admin@easternmarket.org
END:VEVENT
BEGIN:VEVENT
DTSTART;TZID=America/Detroit:20250727T100000
DTEND;TZID=America/Detroit:20250727T160000
DTSTAMP:20260423T071134
CREATED:20250423T220205Z
LAST-MODIFIED:20250423T220433Z
UID:10000301-1753610400-1753632000@easternmarket.org
SUMMARY:Sunday Market 2025
DESCRIPTION:Join us at our annual summer Sunday Market! \nSunday Market runs from 10 am to 4 pm\, June through September and features local craftsmen\, artisans\, clothing\, and apparel with events in Shed 5.
URL:https://easternmarket.org/events/sunday-market-2025/2025-07-27/
LOCATION:Eastern Market\, 2934 Russell\, Detroit\, 48207\, United States
ATTACH;FMTTYPE=image/jpeg:https://easternmarket.org/wp-content/uploads/2025/04/IMG_2540-scaled.jpg
ORGANIZER;CN="Eastern Market Partnership":MAILTO:admin@easternmarket.org
END:VEVENT
BEGIN:VEVENT
DTSTART;TZID=America/Detroit:20250722T090000
DTEND;TZID=America/Detroit:20250722T150000
DTSTAMP:20260423T071134
CREATED:20250423T220740Z
LAST-MODIFIED:20250930T151034Z
UID:10000318-1753174800-1753196400@easternmarket.org
SUMMARY:Tuesday Market 2025
DESCRIPTION:Join us for our annual summer Tuesday Market! \nTuesday Market runs from 9 am to 3 pm featuring our regular Saturday Market vendors with local products and produce\, additional health and wellness resources\, and free yoga and Zumba in Shed 3. \nFood trucks will also be onsite to grab lunch\, with many of our district businesses open to eat\, shop\, and explore.
URL:https://easternmarket.org/events/tuesday-market-2025/2025-07-22/
LOCATION:Eastern Market\, Sheds 2 & 3\, 2934 Russell\, Detroit\, MI\, 48207\, United States
ATTACH;FMTTYPE=image/jpeg:https://easternmarket.org/wp-content/uploads/2025/04/IMG_2506-2-scaled.jpg
ORGANIZER;CN="Eastern Market Partnership":MAILTO:admin@easternmarket.org
END:VEVENT
BEGIN:VEVENT
DTSTART;TZID=America/Detroit:20250720T100000
DTEND;TZID=America/Detroit:20250720T160000
DTSTAMP:20260423T071134
CREATED:20250423T220205Z
LAST-MODIFIED:20250423T220433Z
UID:10000300-1753005600-1753027200@easternmarket.org
SUMMARY:Sunday Market 2025
DESCRIPTION:Join us at our annual summer Sunday Market! \nSunday Market runs from 10 am to 4 pm\, June through September and features local craftsmen\, artisans\, clothing\, and apparel with events in Shed 5.
URL:https://easternmarket.org/events/sunday-market-2025/2025-07-20/
LOCATION:Eastern Market\, 2934 Russell\, Detroit\, 48207\, United States
ATTACH;FMTTYPE=image/jpeg:https://easternmarket.org/wp-content/uploads/2025/04/IMG_2540-scaled.jpg
ORGANIZER;CN="Eastern Market Partnership":MAILTO:admin@easternmarket.org
END:VEVENT
BEGIN:VEVENT
DTSTART;TZID=America/Detroit:20250720T100000
DTEND;TZID=America/Detroit:20250720T160000
DTSTAMP:20260423T071134
CREATED:20250327T183614Z
LAST-MODIFIED:20250417T141950Z
UID:10000025-1753005600-1753027200@easternmarket.org
SUMMARY:Detroit Festival of Books 2025
DESCRIPTION:8th Annual Detroit Festival of Books! \nSunday\, July 20\, 2025 \nEastern Market Shed 5\, Detroit \nFREE entry! \nThat’s right\, no entry fees! \nThis event is FREE and open to the GENERAL PUBLIC. \n  \nWhat is the Detroit Festival of Books? \nThe Detroit Festival of Books is the largest book festival in the State of Michigan. \nWe have vendors from all over the USA\, Canada\, and other countries. \nIt is a goodwill effort to help generate a deeper love and appreciation of books . \nThis event is indoor/outdoor\, cold/warm\, rain/shine. \nVendors keep 100% of their proceeds. \n  \nWhat is the cost of admission? \nAdmission is FREE and open to the general public! \n  \nWhen and where is it? \nSunday\, July 20\, 2025 \n10:00 a.m. – 4:00 p.m. \nEastern Market \nShed 5 \n2934 Russell St \nDetroit\, MI 48207
URL:https://easternmarket.org/events/detroit-festival-of-books-2025/
LOCATION:Eastern Market\, Shed 5\, 2810 Russell St.\, Detroit\, MI\, 48207
ATTACH;FMTTYPE=image/jpeg:https://easternmarket.org/wp-content/uploads/2025/03/IMG_2570-scaled.jpg
END:VEVENT
BEGIN:VEVENT
DTSTART;TZID=America/Detroit:20250715T090000
DTEND;TZID=America/Detroit:20250715T150000
DTSTAMP:20260423T071134
CREATED:20250423T220740Z
LAST-MODIFIED:20250930T151034Z
UID:10000317-1752570000-1752591600@easternmarket.org
SUMMARY:Tuesday Market 2025
DESCRIPTION:Join us for our annual summer Tuesday Market! \nTuesday Market runs from 9 am to 3 pm featuring our regular Saturday Market vendors with local products and produce\, additional health and wellness resources\, and free yoga and Zumba in Shed 3. \nFood trucks will also be onsite to grab lunch\, with many of our district businesses open to eat\, shop\, and explore.
URL:https://easternmarket.org/events/tuesday-market-2025/2025-07-15/
LOCATION:Eastern Market\, Sheds 2 & 3\, 2934 Russell\, Detroit\, MI\, 48207\, United States
ATTACH;FMTTYPE=image/jpeg:https://easternmarket.org/wp-content/uploads/2025/04/IMG_2506-2-scaled.jpg
ORGANIZER;CN="Eastern Market Partnership":MAILTO:admin@easternmarket.org
END:VEVENT
BEGIN:VEVENT
DTSTART;TZID=America/Detroit:20250713T100000
DTEND;TZID=America/Detroit:20250713T160000
DTSTAMP:20260423T071134
CREATED:20250423T220205Z
LAST-MODIFIED:20250423T220433Z
UID:10000299-1752400800-1752422400@easternmarket.org
SUMMARY:Sunday Market 2025
DESCRIPTION:Join us at our annual summer Sunday Market! \nSunday Market runs from 10 am to 4 pm\, June through September and features local craftsmen\, artisans\, clothing\, and apparel with events in Shed 5.
URL:https://easternmarket.org/events/sunday-market-2025/2025-07-13/
LOCATION:Eastern Market\, 2934 Russell\, Detroit\, 48207\, United States
ATTACH;FMTTYPE=image/jpeg:https://easternmarket.org/wp-content/uploads/2025/04/IMG_2540-scaled.jpg
ORGANIZER;CN="Eastern Market Partnership":MAILTO:admin@easternmarket.org
END:VEVENT
BEGIN:VEVENT
DTSTART;TZID=America/Detroit:20250713T100000
DTEND;TZID=America/Detroit:20250713T160000
DTSTAMP:20260423T071134
CREATED:20250314T180321Z
LAST-MODIFIED:20250314T180321Z
UID:10000006-1752400800-1752422400@easternmarket.org
SUMMARY:Shed 5 Flea (August)
DESCRIPTION:Shed 5 | Eastern Market\n2934 Russell Street \nDATES AND TIMES\nSunday\nJune 8 | 2025\nJuly 13 | 2025\nAugust 10 | 2025\n10:00 AM — 4:00 PM \nFREE ADMISSION AND PARKING
URL:https://easternmarket.org/events/shed-5-flea-august/
LOCATION:Eastern Market\, Shed 5\, 2810 Russell St.\, Detroit\, MI\, 48207
ATTACH;FMTTYPE=image/jpeg:https://easternmarket.org/wp-content/uploads/2025/02/shed-5-flea-market.jpg
END:VEVENT
BEGIN:VEVENT
DTSTART;TZID=America/Detroit:20250713T100000
DTEND;TZID=America/Detroit:20250713T160000
DTSTAMP:20260423T071134
CREATED:20250225T190713Z
LAST-MODIFIED:20250314T175902Z
UID:10000004-1752400800-1752422400@easternmarket.org
SUMMARY:Shed 5 Flea (July)
DESCRIPTION:Shed 5 | Eastern Market\n2934 Russell Street \nDATES AND TIMES\nSunday\nJune 8 | 2025\nJuly 13 | 2025\nAugust 10 | 2025\n10:00 AM — 4:00 PM \nFREE ADMISSION AND PARKING
URL:https://easternmarket.org/events/shed-5-flea-july/
LOCATION:Eastern Market\, Shed 5\, 2810 Russell St.\, Detroit\, MI\, 48207
ATTACH;FMTTYPE=image/jpeg:https://easternmarket.org/wp-content/uploads/2025/02/shed-5-flea-market.jpg
END:VEVENT
BEGIN:VEVENT
DTSTART;TZID=America/Detroit:20250708T090000
DTEND;TZID=America/Detroit:20250708T150000
DTSTAMP:20260423T071134
CREATED:20250423T220740Z
LAST-MODIFIED:20250930T151034Z
UID:10000316-1751965200-1751986800@easternmarket.org
SUMMARY:Tuesday Market 2025
DESCRIPTION:Join us for our annual summer Tuesday Market! \nTuesday Market runs from 9 am to 3 pm featuring our regular Saturday Market vendors with local products and produce\, additional health and wellness resources\, and free yoga and Zumba in Shed 3. \nFood trucks will also be onsite to grab lunch\, with many of our district businesses open to eat\, shop\, and explore.
URL:https://easternmarket.org/events/tuesday-market-2025/2025-07-08/
LOCATION:Eastern Market\, Sheds 2 & 3\, 2934 Russell\, Detroit\, MI\, 48207\, United States
ATTACH;FMTTYPE=image/jpeg:https://easternmarket.org/wp-content/uploads/2025/04/IMG_2506-2-scaled.jpg
ORGANIZER;CN="Eastern Market Partnership":MAILTO:admin@easternmarket.org
END:VEVENT
BEGIN:VEVENT
DTSTART;TZID=America/Detroit:20250706T100000
DTEND;TZID=America/Detroit:20250706T160000
DTSTAMP:20260423T071134
CREATED:20250423T220205Z
LAST-MODIFIED:20250423T220433Z
UID:10000298-1751796000-1751817600@easternmarket.org
SUMMARY:Sunday Market 2025
DESCRIPTION:Join us at our annual summer Sunday Market! \nSunday Market runs from 10 am to 4 pm\, June through September and features local craftsmen\, artisans\, clothing\, and apparel with events in Shed 5.
URL:https://easternmarket.org/events/sunday-market-2025/2025-07-06/
LOCATION:Eastern Market\, 2934 Russell\, Detroit\, 48207\, United States
ATTACH;FMTTYPE=image/jpeg:https://easternmarket.org/wp-content/uploads/2025/04/IMG_2540-scaled.jpg
ORGANIZER;CN="Eastern Market Partnership":MAILTO:admin@easternmarket.org
END:VEVENT
BEGIN:VEVENT
DTSTART;TZID=America/Detroit:20250701T090000
DTEND;TZID=America/Detroit:20250701T150000
DTSTAMP:20260423T071134
CREATED:20250423T220740Z
LAST-MODIFIED:20250930T151034Z
UID:10000315-1751360400-1751382000@easternmarket.org
SUMMARY:Tuesday Market 2025
DESCRIPTION:Join us for our annual summer Tuesday Market! \nTuesday Market runs from 9 am to 3 pm featuring our regular Saturday Market vendors with local products and produce\, additional health and wellness resources\, and free yoga and Zumba in Shed 3. \nFood trucks will also be onsite to grab lunch\, with many of our district businesses open to eat\, shop\, and explore.
URL:https://easternmarket.org/events/tuesday-market-2025/2025-07-01/
LOCATION:Eastern Market\, Sheds 2 & 3\, 2934 Russell\, Detroit\, MI\, 48207\, United States
ATTACH;FMTTYPE=image/jpeg:https://easternmarket.org/wp-content/uploads/2025/04/IMG_2506-2-scaled.jpg
ORGANIZER;CN="Eastern Market Partnership":MAILTO:admin@easternmarket.org
END:VEVENT
END:VCALENDAR