BEGIN:VCALENDAR
VERSION:2.0
PRODID:-//Eastern Market - ECPv6.15.20//NONSGML v1.0//EN
CALSCALE:GREGORIAN
METHOD:PUBLISH
X-WR-CALNAME:Eastern Market
X-ORIGINAL-URL:https://easternmarket.org
X-WR-CALDESC:Events for Eastern Market
REFRESH-INTERVAL;VALUE=DURATION:PT1H
X-Robots-Tag:noindex
X-PUBLISHED-TTL:PT1H
BEGIN:VTIMEZONE
TZID:America/Detroit
BEGIN:DAYLIGHT
TZOFFSETFROM:-0500
TZOFFSETTO:-0400
TZNAME:EDT
DTSTART:20250309T070000
END:DAYLIGHT
BEGIN:STANDARD
TZOFFSETFROM:-0400
TZOFFSETTO:-0500
TZNAME:EST
DTSTART:20251102T060000
END:STANDARD
BEGIN:DAYLIGHT
TZOFFSETFROM:-0500
TZOFFSETTO:-0400
TZNAME:EDT
DTSTART:20260308T070000
END:DAYLIGHT
BEGIN:STANDARD
TZOFFSETFROM:-0400
TZOFFSETTO:-0500
TZNAME:EST
DTSTART:20261101T060000
END:STANDARD
BEGIN:DAYLIGHT
TZOFFSETFROM:-0500
TZOFFSETTO:-0400
TZNAME:EDT
DTSTART:20270314T070000
END:DAYLIGHT
BEGIN:STANDARD
TZOFFSETFROM:-0400
TZOFFSETTO:-0500
TZNAME:EST
DTSTART:20271107T060000
END:STANDARD
END:VTIMEZONE
BEGIN:VEVENT
DTSTART;TZID=America/Detroit:20260608T090000
DTEND;TZID=America/Detroit:20260608T113000
DTSTAMP:20260424T180520
CREATED:20260424T174136Z
LAST-MODIFIED:20260424T174136Z
UID:10001912-1780909200-1780918200@easternmarket.org
SUMMARY:Evelyn's Midtown Kitchen - Kids Camp
DESCRIPTION:Get ready for a fun-filled week where kids explore tasty treats from around the world and make new friends! \n\n\n\n\nJoin us for Kids Camp – Global Flavors\, a five-day culinary adventure! Kids will learn to cook a variety of dishes from around the world\, from Korean Kimbap rice rolls to Cacio e Pepe with homemade pasta! It’s a week full of fun\, learning\, and delicious dishes! \n  \nEach Day \n\nDrop off – 9am\nPick-up 11:30am\n\nAges 7 – 12 \n  \nDay 1 – Kimbap \n– Korean seaweed rice rolls filled with vegetables\, egg\, and meat. \n  \nDay 2 – Indian Delights \n– Butter Chicken: Creamy tomato curry with tender chicken and warm Indian spices. \n– Dosas : Thin\, crispy South Indian fermented rice and lentil crepes. \n  \nDay 3 – Jamaican Beef Patties \n– Spiced ground beef baked inside a flaky golden pastry. \n  \nDay 4 – Caccio e’ Pepe \n– Roman pasta with pecorino cheese and black pepper sauce. \n  \nDay 5 – Chicken Dumplings with Lace Skirt Technique \n-Steamed chicken dumplings finished with a delicate\, crispy lacy skirt. \n  \nLOCATED: \nEastern Market – Shed 5 – Commons \n2934 Russell St.Detroit\, MI 48207 \nWhether you’re a seasoned chef or a beginner in the kitchen\, this cooking class is suitable for all skill levels. Grab your apron\, roll up your sleeves\, and get ready to create a memorable experience. \nDon’t miss out on this unique opportunity to learn\, laugh\, and enjoy a delicious meal together. Book your spot now for a delightful evening of cooking\, eating\, and creating lasting memories at Eastern Market!
URL:https://easternmarket.org/events/evelyns-midtown-kitchen-kids-camp/2026-06-08/
LOCATION:Eastern Market\, Shed 5\, 2810 Russell St.\, Detroit\, MI\, 48207
ATTACH;FMTTYPE=image/jpeg:https://easternmarket.org/wp-content/uploads/2025/10/417138445_965115771717691_5961021592254802427_n.jpg
ORGANIZER;CN="Evelyn's Midtown Kitchen":MAILTO:emkculinary@gmail.com
END:VEVENT
BEGIN:VEVENT
DTSTART;TZID=America/Detroit:20260609T090000
DTEND;TZID=America/Detroit:20260609T113000
DTSTAMP:20260424T180520
CREATED:20260424T174136Z
LAST-MODIFIED:20260424T174136Z
UID:10001913-1780995600-1781004600@easternmarket.org
SUMMARY:Evelyn's Midtown Kitchen - Kids Camp
DESCRIPTION:Get ready for a fun-filled week where kids explore tasty treats from around the world and make new friends! \n\n\n\n\nJoin us for Kids Camp – Global Flavors\, a five-day culinary adventure! Kids will learn to cook a variety of dishes from around the world\, from Korean Kimbap rice rolls to Cacio e Pepe with homemade pasta! It’s a week full of fun\, learning\, and delicious dishes! \n  \nEach Day \n\nDrop off – 9am\nPick-up 11:30am\n\nAges 7 – 12 \n  \nDay 1 – Kimbap \n– Korean seaweed rice rolls filled with vegetables\, egg\, and meat. \n  \nDay 2 – Indian Delights \n– Butter Chicken: Creamy tomato curry with tender chicken and warm Indian spices. \n– Dosas : Thin\, crispy South Indian fermented rice and lentil crepes. \n  \nDay 3 – Jamaican Beef Patties \n– Spiced ground beef baked inside a flaky golden pastry. \n  \nDay 4 – Caccio e’ Pepe \n– Roman pasta with pecorino cheese and black pepper sauce. \n  \nDay 5 – Chicken Dumplings with Lace Skirt Technique \n-Steamed chicken dumplings finished with a delicate\, crispy lacy skirt. \n  \nLOCATED: \nEastern Market – Shed 5 – Commons \n2934 Russell St.Detroit\, MI 48207 \nWhether you’re a seasoned chef or a beginner in the kitchen\, this cooking class is suitable for all skill levels. Grab your apron\, roll up your sleeves\, and get ready to create a memorable experience. \nDon’t miss out on this unique opportunity to learn\, laugh\, and enjoy a delicious meal together. Book your spot now for a delightful evening of cooking\, eating\, and creating lasting memories at Eastern Market!
URL:https://easternmarket.org/events/evelyns-midtown-kitchen-kids-camp/2026-06-09/
LOCATION:Eastern Market\, Shed 5\, 2810 Russell St.\, Detroit\, MI\, 48207
ATTACH;FMTTYPE=image/jpeg:https://easternmarket.org/wp-content/uploads/2025/10/417138445_965115771717691_5961021592254802427_n.jpg
ORGANIZER;CN="Evelyn's Midtown Kitchen":MAILTO:emkculinary@gmail.com
END:VEVENT
BEGIN:VEVENT
DTSTART;TZID=America/Detroit:20260610T090000
DTEND;TZID=America/Detroit:20260610T113000
DTSTAMP:20260424T180520
CREATED:20260424T174136Z
LAST-MODIFIED:20260424T174136Z
UID:10001914-1781082000-1781091000@easternmarket.org
SUMMARY:Evelyn's Midtown Kitchen - Kids Camp
DESCRIPTION:Get ready for a fun-filled week where kids explore tasty treats from around the world and make new friends! \n\n\n\n\nJoin us for Kids Camp – Global Flavors\, a five-day culinary adventure! Kids will learn to cook a variety of dishes from around the world\, from Korean Kimbap rice rolls to Cacio e Pepe with homemade pasta! It’s a week full of fun\, learning\, and delicious dishes! \n  \nEach Day \n\nDrop off – 9am\nPick-up 11:30am\n\nAges 7 – 12 \n  \nDay 1 – Kimbap \n– Korean seaweed rice rolls filled with vegetables\, egg\, and meat. \n  \nDay 2 – Indian Delights \n– Butter Chicken: Creamy tomato curry with tender chicken and warm Indian spices. \n– Dosas : Thin\, crispy South Indian fermented rice and lentil crepes. \n  \nDay 3 – Jamaican Beef Patties \n– Spiced ground beef baked inside a flaky golden pastry. \n  \nDay 4 – Caccio e’ Pepe \n– Roman pasta with pecorino cheese and black pepper sauce. \n  \nDay 5 – Chicken Dumplings with Lace Skirt Technique \n-Steamed chicken dumplings finished with a delicate\, crispy lacy skirt. \n  \nLOCATED: \nEastern Market – Shed 5 – Commons \n2934 Russell St.Detroit\, MI 48207 \nWhether you’re a seasoned chef or a beginner in the kitchen\, this cooking class is suitable for all skill levels. Grab your apron\, roll up your sleeves\, and get ready to create a memorable experience. \nDon’t miss out on this unique opportunity to learn\, laugh\, and enjoy a delicious meal together. Book your spot now for a delightful evening of cooking\, eating\, and creating lasting memories at Eastern Market!
URL:https://easternmarket.org/events/evelyns-midtown-kitchen-kids-camp/2026-06-10/
LOCATION:Eastern Market\, Shed 5\, 2810 Russell St.\, Detroit\, MI\, 48207
ATTACH;FMTTYPE=image/jpeg:https://easternmarket.org/wp-content/uploads/2025/10/417138445_965115771717691_5961021592254802427_n.jpg
ORGANIZER;CN="Evelyn's Midtown Kitchen":MAILTO:emkculinary@gmail.com
END:VEVENT
BEGIN:VEVENT
DTSTART;TZID=America/Detroit:20260611T090000
DTEND;TZID=America/Detroit:20260611T113000
DTSTAMP:20260424T180520
CREATED:20260424T174136Z
LAST-MODIFIED:20260424T174136Z
UID:10001915-1781168400-1781177400@easternmarket.org
SUMMARY:Evelyn's Midtown Kitchen - Kids Camp
DESCRIPTION:Get ready for a fun-filled week where kids explore tasty treats from around the world and make new friends! \n\n\n\n\nJoin us for Kids Camp – Global Flavors\, a five-day culinary adventure! Kids will learn to cook a variety of dishes from around the world\, from Korean Kimbap rice rolls to Cacio e Pepe with homemade pasta! It’s a week full of fun\, learning\, and delicious dishes! \n  \nEach Day \n\nDrop off – 9am\nPick-up 11:30am\n\nAges 7 – 12 \n  \nDay 1 – Kimbap \n– Korean seaweed rice rolls filled with vegetables\, egg\, and meat. \n  \nDay 2 – Indian Delights \n– Butter Chicken: Creamy tomato curry with tender chicken and warm Indian spices. \n– Dosas : Thin\, crispy South Indian fermented rice and lentil crepes. \n  \nDay 3 – Jamaican Beef Patties \n– Spiced ground beef baked inside a flaky golden pastry. \n  \nDay 4 – Caccio e’ Pepe \n– Roman pasta with pecorino cheese and black pepper sauce. \n  \nDay 5 – Chicken Dumplings with Lace Skirt Technique \n-Steamed chicken dumplings finished with a delicate\, crispy lacy skirt. \n  \nLOCATED: \nEastern Market – Shed 5 – Commons \n2934 Russell St.Detroit\, MI 48207 \nWhether you’re a seasoned chef or a beginner in the kitchen\, this cooking class is suitable for all skill levels. Grab your apron\, roll up your sleeves\, and get ready to create a memorable experience. \nDon’t miss out on this unique opportunity to learn\, laugh\, and enjoy a delicious meal together. Book your spot now for a delightful evening of cooking\, eating\, and creating lasting memories at Eastern Market!
URL:https://easternmarket.org/events/evelyns-midtown-kitchen-kids-camp/2026-06-11/
LOCATION:Eastern Market\, Shed 5\, 2810 Russell St.\, Detroit\, MI\, 48207
ATTACH;FMTTYPE=image/jpeg:https://easternmarket.org/wp-content/uploads/2025/10/417138445_965115771717691_5961021592254802427_n.jpg
ORGANIZER;CN="Evelyn's Midtown Kitchen":MAILTO:emkculinary@gmail.com
END:VEVENT
BEGIN:VEVENT
DTSTART;TZID=America/Detroit:20260612T090000
DTEND;TZID=America/Detroit:20260612T113000
DTSTAMP:20260424T180520
CREATED:20260424T174136Z
LAST-MODIFIED:20260424T174136Z
UID:10001916-1781254800-1781263800@easternmarket.org
SUMMARY:Evelyn's Midtown Kitchen - Kids Camp
DESCRIPTION:Get ready for a fun-filled week where kids explore tasty treats from around the world and make new friends! \n\n\n\n\nJoin us for Kids Camp – Global Flavors\, a five-day culinary adventure! Kids will learn to cook a variety of dishes from around the world\, from Korean Kimbap rice rolls to Cacio e Pepe with homemade pasta! It’s a week full of fun\, learning\, and delicious dishes! \n  \nEach Day \n\nDrop off – 9am\nPick-up 11:30am\n\nAges 7 – 12 \n  \nDay 1 – Kimbap \n– Korean seaweed rice rolls filled with vegetables\, egg\, and meat. \n  \nDay 2 – Indian Delights \n– Butter Chicken: Creamy tomato curry with tender chicken and warm Indian spices. \n– Dosas : Thin\, crispy South Indian fermented rice and lentil crepes. \n  \nDay 3 – Jamaican Beef Patties \n– Spiced ground beef baked inside a flaky golden pastry. \n  \nDay 4 – Caccio e’ Pepe \n– Roman pasta with pecorino cheese and black pepper sauce. \n  \nDay 5 – Chicken Dumplings with Lace Skirt Technique \n-Steamed chicken dumplings finished with a delicate\, crispy lacy skirt. \n  \nLOCATED: \nEastern Market – Shed 5 – Commons \n2934 Russell St.Detroit\, MI 48207 \nWhether you’re a seasoned chef or a beginner in the kitchen\, this cooking class is suitable for all skill levels. Grab your apron\, roll up your sleeves\, and get ready to create a memorable experience. \nDon’t miss out on this unique opportunity to learn\, laugh\, and enjoy a delicious meal together. Book your spot now for a delightful evening of cooking\, eating\, and creating lasting memories at Eastern Market!
URL:https://easternmarket.org/events/evelyns-midtown-kitchen-kids-camp/2026-06-12/
LOCATION:Eastern Market\, Shed 5\, 2810 Russell St.\, Detroit\, MI\, 48207
ATTACH;FMTTYPE=image/jpeg:https://easternmarket.org/wp-content/uploads/2025/10/417138445_965115771717691_5961021592254802427_n.jpg
ORGANIZER;CN="Evelyn's Midtown Kitchen":MAILTO:emkculinary@gmail.com
END:VEVENT
BEGIN:VEVENT
DTSTART;TZID=America/Detroit:20260617T180000
DTEND;TZID=America/Detroit:20260617T193000
DTSTAMP:20260424T180520
CREATED:20260424T174630Z
LAST-MODIFIED:20260424T174630Z
UID:10001917-1781719200-1781724600@easternmarket.org
SUMMARY:Evelyn's Midtown Kitchen - Knife Skills Class
DESCRIPTION:Get ready to chop like a pro and master prepping veggies the French bistro way in this fun\, hands-on class! \n\n\n\n\nThis hands-on cooking class focuses on developing essential knife skills while preparing a fresh\, French bistro–inspired menu. Participants will practice proper knife handling\, safety\, and precision cutting as they work with a variety of vegetables and fruits. \nStudents will prepare a Classic Mirepoix Vegetable Soup\, learning the foundational cuts for onions\, carrots\, and celery. They’ll then create a Niçoise-Style Chopped Vegetable Salad\, practicing consistent\, uniform chopping for great texture and presentation. The class finishes with a Fresh Fruit Salad with Citrus & Mint (French Bistro Style)\, where participants refine their slicing and fruit preparation techniques. \nBy the end of the class\, students will gain confidence with their knives while creating a light\, fresh meal. \n  \nClass MENU: \nClassic Mirepoix Vegetable Soup \nNiçoise-Style Chopped Vegetable Salad \nFresh Fruit Salad with Citrus & Mint (French Bistro Style) \nNote: Feel free to bring your favorite bottle of wine to enjoy during the class! \nGratuity is welcomed! \n  \nWine Pairing: \n\nStarter: Sauvignon Blanc – crisp and herbaceous\nMain: Chardonnay – light and acidic\nDessert: Rosé – light and dry\n\n  \nWhat to Expect: \n• You’ll partner with other students in groups of four\, sharing workstations and culinary equipment. \n• Classes typically run for 2 to 2 1/2 hours\, unless otherwise indicated. \n• Our hands-on classes maintain a cozy size\, accommodating 12-20 students\, in Shed 5 at Eastern Market \n• Be prepared for an active session\, as you’ll be on your feet\, cooking\, and fully engaged for the majority of the class. \n• For your comfort and safety\, we recommend wearing comfortable\, closed-toe shoes and securing long hair away from your face. \n• Evelyn’s Midtown Kitchen is committed to maintaining common sanitation standards\, and for this reason\, you may be asked to wash your hands multiple times to contribute to the safety of food handling.
URL:https://easternmarket.org/events/evelyns-midtown-kitchen-knife-skills-class/
LOCATION:Eastern Market\, Shed 5\, 2810 Russell St.\, Detroit\, MI\, 48207
ATTACH;FMTTYPE=image/jpeg:https://easternmarket.org/wp-content/uploads/2025/10/417138445_965115771717691_5961021592254802427_n.jpg
ORGANIZER;CN="Evelyn's Midtown Kitchen":MAILTO:emkculinary@gmail.com
END:VEVENT
BEGIN:VEVENT
DTSTART;TZID=America/Detroit:20260619T180000
DTEND;TZID=America/Detroit:20260619T203000
DTSTAMP:20260424T180520
CREATED:20260424T183954Z
LAST-MODIFIED:20260424T183954Z
UID:10001922-1781892000-1781901000@easternmarket.org
SUMMARY:Evelyn's Midtown Kitchen - Father's Day
DESCRIPTION:Join us for a romantic evening filled with the exquisite flavors of Burgundy\, France at our Date Night event! \n\n\n\n\nThis Father’s Day\, ditch the crowded restaurants and treat Dad to a hands-on culinary adventure! Whether you’re celebrating with your dad\, grandpa\, husband\, or any father figure\, this interactive cooking class will have you mastering bold flavors and steakhouse classics—all with a touch of Southern charm and a whiskey-infused kick! \n  \nMenu: \n**Surprise Appetizer!** \n\nBavette Cast Iron Steak with Whiskey Sauce\nRoasted Broccolini\nSouthern Bread Pudding\n\nSuggested Wine Pairing – Bring your own wine! \n\nBavette Steak with Whiskey Sauce – Cabernet Sauvignon or Malbec\nRoasted Broccolini – Sauvignon Blanc or Chardonnay\nSouthern Bread Pudding – Port or Late-Harvest Riesling\n\nNote: Gratuity is appreciated but not required. Our team is dedicated to providing you with an exceptional and memorable experience\, and we truly enjoy serving you! \n  \nWhat to Expect: \n• You’ll partner with other students in groups of four\, sharing workstations and culinary equipment. \n• Classes typically run for 2 to 2 1/2 hours\, unless otherwise indicated. \n• Our hands-on classes maintain a cozy size\, accommodating 12-20 students\, in Shed 5 at Eastern Market \n• Be prepared for an active session\, as you’ll be on your feet\, cooking\, and fully engaged for the majority of the class. \n• For your comfort and safety\, we recommend wearing comfortable\, closed-toe shoes and securing long hair away from your face. \n• Evelyn’s Midtown Kitchen is committed to maintaining common sanitation standards\, and for this reason\, you may be asked to wash your hands multiple times to contribute to the safety of food handling. \n\nParking is free\nArrive at 6pm
URL:https://easternmarket.org/events/evelyns-midtown-kitchen-fathers-day/
LOCATION:Eastern Market\, Shed 5\, 2810 Russell St.\, Detroit\, MI\, 48207
ATTACH;FMTTYPE=image/jpeg:https://easternmarket.org/wp-content/uploads/2025/10/417138445_965115771717691_5961021592254802427_n.jpg
ORGANIZER;CN="Evelyn's Midtown Kitchen":MAILTO:emkculinary@gmail.com
END:VEVENT
BEGIN:VEVENT
DTSTART;TZID=America/Detroit:20260627T100000
DTEND;TZID=America/Detroit:20260627T123000
DTSTAMP:20260424T180520
CREATED:20260424T184254Z
LAST-MODIFIED:20260424T184254Z
UID:10001923-1782554400-1782563400@easternmarket.org
SUMMARY:Evelyn's Midtown Kitchen - Family Fun Treasure HUNT
DESCRIPTION:Join us for a fun-filled evening of hands-on cooking\, where you’ll learn to create a delectable cuisine with Evelyn’s Midtown Kitchen. \n\n\n\n\nExperience the bounty of our historical Eastern Market in a unique\, vegetable-focused cooking class! Led by Chef Evelyn\, you’ll embark on a treasure hunt\, exploring her favorite vendors in this vibrant farmers market. \nThis adventure combines the excitement of locally sourced produce and proteins\, guiding you to discover fresh\, seasonal ingredients. Teams that complete their bounty hunt within the allotted time will be treated to an exclusive tasting from one of the market’s renowned food vendors. After the hunt\, return to our kitchen where you’ll transform your finds into a delicious meal. \nThis interactive class is not just about cooking; it’s a celebration of community\, fresh ingredients\, and culinary creativity. Join us to cook\, enjoy\, and partake in the flavors you’ve gathered – a true farm-to-table experience! \nMenu: \nRosted tomato tart with puff pastry & Arugula \nCaprese salad with grilled peaches and mozzarella \nStuffed poblano peppers with Chorizo ground beef \nBaked pears and vanilla ice cream
URL:https://easternmarket.org/events/evelyns-midtown-kitchen-family-fun-treasure-hunt/
LOCATION:Eastern Market\, Shed 5\, 2810 Russell St.\, Detroit\, MI\, 48207
ATTACH;FMTTYPE=image/jpeg:https://easternmarket.org/wp-content/uploads/2025/10/417138445_965115771717691_5961021592254802427_n.jpg
ORGANIZER;CN="Evelyn's Midtown Kitchen":MAILTO:emkculinary@gmail.com
END:VEVENT
BEGIN:VEVENT
DTSTART;TZID=America/Detroit:20260711T100000
DTEND;TZID=America/Detroit:20260711T123000
DTSTAMP:20260424T180520
CREATED:20260424T184454Z
LAST-MODIFIED:20260424T184454Z
UID:10001924-1783764000-1783773000@easternmarket.org
SUMMARY:Evelyn's Midtown Kitchen - Summer Berry Tart Workshop
DESCRIPTION:Celebrate summer with a hands-on tart workshop! Learn to bake a golden crust\, silky filling\, and top it with vibrant fresh berries. Fun for \n\n\n\n\nCreate a beautiful bakery-style berry tart from scratch in this hands-on class. Learn to make a buttery Pâte Sablée tart shell\, silky Diplomat cream\, and finish with fresh berries and a glossy glaze for a stunning summer dessert. \nClass MENU: \nPâte Sablée Tart Shell \nDiplomat Cream \nFresh Berries and Glaze \nNote: Feel free to bring your favorite bottle of wine to enjoy during the class! \nGratuity is welcomed! \n  \nWhat to Expect: \n• You’ll partner with other students in groups of four\, sharing workstations and culinary equipment. \n• Classes typically run for 2 to 2 1/2 hours\, unless otherwise indicated. \n• Our hands-on classes maintain a cozy size\, accommodating 12-20 students\, in Shed 5 at Eastern Market \n• Be prepared for an active session\, as you’ll be on your feet\, cooking\, and fully engaged for the majority of the class. \n• For your comfort and safety\, we recommend wearing comfortable\, closed-toe shoes and securing long hair away from your face. \n• Evelyn’s Midtown Kitchen is committed to maintaining common sanitation standards\, and for this reason\, you may be asked to wash your hands multiple times to contribute to the safety of food handling.
URL:https://easternmarket.org/events/evelyns-midtown-kitchen-summer-berry-tart-workshop/
LOCATION:Eastern Market\, Shed 5\, 2810 Russell St.\, Detroit\, MI\, 48207
ATTACH;FMTTYPE=image/jpeg:https://easternmarket.org/wp-content/uploads/2025/10/417138445_965115771717691_5961021592254802427_n.jpg
ORGANIZER;CN="Evelyn's Midtown Kitchen":MAILTO:emkculinary@gmail.com
END:VEVENT
BEGIN:VEVENT
DTSTART;TZID=America/Detroit:20260725T100000
DTEND;TZID=America/Detroit:20260725T123000
DTSTAMP:20260424T180520
CREATED:20260424T184958Z
LAST-MODIFIED:20260424T184958Z
UID:10001926-1784973600-1784982600@easternmarket.org
SUMMARY:Evelyn's Midtown Kitchen - Summer Baking
DESCRIPTION:Bake beautiful rustic galettes! Learn flaky pastry\, seasonal fruit fillings\, and simple techniques for stunning free-form summer tarts. \n\n\n\n\nCelebrate summer fruits in this hands-on baking class! Learn to make flaky galettes filled with juicy peaches and fragrant thyme\, plus a vibrant mixed berry version. Perfect for home bakers looking to elevate their pastry skills. \nClass MENU: \nPeach Thyme Galette \nMixed Berry Galette \nFreeform Dough Technique \nNote: Feel free to bring your favorite bottle of wine to enjoy during the class! \nGratuity is welcomed! \n  \nWine Pairing: \n\nStarter: Rosé (Provence-style) – bright and citrusy\nMain: Moscato d’Asti – sparkling and sweet\nDessert: Late Harvest Riesling – sweet and acidic\n\n  \nWhat to Expect: \n• You’ll partner with other students in groups of four\, sharing workstations and culinary equipment. \n• Classes typically run for 2 to 2 1/2 hours\, unless otherwise indicated. \n• Our hands-on classes maintain a cozy size\, accommodating 12-20 students\, in Shed 5 at Eastern Market \n• Be prepared for an active session\, as you’ll be on your feet\, cooking\, and fully engaged for the majority of the class. \n• For your comfort and safety\, we recommend wearing comfortable\, closed-toe shoes and securing long hair away from your face. \n• Evelyn’s Midtown Kitchen is committed to maintaining common sanitation standards\, and for this reason\, you may be asked to wash your hands multiple times to contribute to the safety of food handling.
URL:https://easternmarket.org/events/evelyns-midtown-kitchen-summer-baking/
LOCATION:Eastern Market\, Shed 5\, 2810 Russell St.\, Detroit\, MI\, 48207
ATTACH;FMTTYPE=image/jpeg:https://easternmarket.org/wp-content/uploads/2025/10/417138445_965115771717691_5961021592254802427_n.jpg
ORGANIZER;CN="Evelyn's Midtown Kitchen":MAILTO:emkculinary@gmail.com
END:VEVENT
BEGIN:VEVENT
DTSTART;TZID=America/Detroit:20260729T180000
DTEND;TZID=America/Detroit:20260729T203000
DTSTAMP:20260424T180520
CREATED:20260424T185139Z
LAST-MODIFIED:20260424T185139Z
UID:10001927-1785348000-1785357000@easternmarket.org
SUMMARY:Evelyn's Midtown Kitchen - Maine Lobster Boil
DESCRIPTION:Join us for a Classic Maine Summer Lobster Boil! \n\n\n\n\nCelebrate the flavors of summer with this festive\, hands-on cooking class featuring a classic Classic Maine Lobster Boil and the show-stopping dessert\, Cherries Jubilee. Learn how to prepare a traditional seafood boil with lobster\, corn\, potatoes\, and spices—perfect for warm-weather gatherings. Then\, master the art of flambé as you create Cherries Jubilee\, a fiery\, elegant dessert served over vanilla ice cream. This class is ideal for food lovers looking to embrace summer cooking with bold flavors and a touch of Southern charm. \nMenu \n\nMaine Lobster Boil (Lobster\, clams\, corn\, baby potatoes\, smoked sausage)\nDrawn Lemon Butter with Old Bay\nHeirloom Tomato & Cucumber Salad with Fresh Dill\nButtery Griddled Cornbread or Parker House Rolls\nBlueberry Shortcake with Lemon Whipped Cream\n\nLocation: Eastern Market\, Shed 5
URL:https://easternmarket.org/events/evelyns-midtown-kitchen-maine-lobster-boil/
LOCATION:Eastern Market\, Shed 5\, 2810 Russell St.\, Detroit\, MI\, 48207
ATTACH;FMTTYPE=image/jpeg:https://easternmarket.org/wp-content/uploads/2025/10/417138445_965115771717691_5961021592254802427_n.jpg
ORGANIZER;CN="Evelyn's Midtown Kitchen":MAILTO:emkculinary@gmail.com
END:VEVENT
BEGIN:VEVENT
DTSTART;TZID=America/Detroit:20260801T100000
DTEND;TZID=America/Detroit:20260801T123000
DTSTAMP:20260424T180520
CREATED:20260424T185302Z
LAST-MODIFIED:20260424T185302Z
UID:10001928-1785578400-1785587400@easternmarket.org
SUMMARY:Evelyn's Midtown Kitchen - Eastern Market Summer Bounty
DESCRIPTION:Join us for a fun-filled evening of hands-on cooking\, where you’ll learn to create a delectable cuisine with Evelyn’s Midtown Kitchen. \n\n\n\n\nExperience the bounty of our historical Eastern Market in a unique\, vegetable-focused cooking class! Led by Chef Evelyn\, you’ll embark on a treasure hunt\, exploring her favorite vendors in this vibrant farmers market. This adventure combines the excitement of locally sourced produce and proteins\, guiding you to discover fresh\, seasonal ingredients. Teams that complete their bounty hunt within the allotted time will be treated to an exclusive tasting from one of the market’s renowned food vendors. After the hunt\, return to our kitchen where you’ll transform your finds into a delicious meal. This interactive class is not just about cooking; it’s a celebration of community\, fresh ingredients\, and culinary creativity. Join us to cook\, enjoy\, and partake in the flavors you’ve gathered – a true farm-to-table experience! \n  \nMenu: \nRosted tomato tart with puff pastry & Arugula \nCaprese salad with grilled peaches and mozzarella \nStuffed poblano peppers with Chorizo ground beef \nBaked pears and vanilla ice cream
URL:https://easternmarket.org/events/evelyns-midtown-kitchen-eastern-market-summer-bounty/
LOCATION:Eastern Market\, Shed 5\, 2810 Russell St.\, Detroit\, MI\, 48207
ATTACH;FMTTYPE=image/jpeg:https://easternmarket.org/wp-content/uploads/2025/10/417138445_965115771717691_5961021592254802427_n.jpg
ORGANIZER;CN="Evelyn's Midtown Kitchen":MAILTO:emkculinary@gmail.com
END:VEVENT
END:VCALENDAR